Workbook
Name _Toc15394826: '规模估算（功能点）'!$G$251
Name _Toc15394927: '规模估算（功能点）'!$D$361
Name _Toc15394928: '规模估算（功能点）'!$D$361
Name _Toc16120: '规模估算（功能点）'!$G$365
Name _Toc17265: '规模估算（功能点）'!$D$254
Name _Toc19278: '规模估算（功能点）'!$G$247
Name _Toc20755421: '规模估算（功能点）'!$D$261
Name _Toc20885: '规模估算（功能点）'!$G$249
Name _Toc29712: '规模估算（功能点）'!$G$250
Name _Toc4421: '规模估算（功能点）'!$C$369
Name _Toc458773318: '规模估算（功能点）'!$C$289
Name _Toc531027390: '规模估算（功能点）'!$C$364
Name _Toc531027391: '规模估算（功能点）'!$G$364
Name _Toc7693: '规模估算（功能点）'!$G$248
Name _Toc7736: '规模估算（功能点）'!$G$237

Sheet 项目特征
A1: 序号 | B1: 调整因子类型 | D1: 描述 | E1: 取值
A2: 1 | B2: 规模计数时机 | E2: =IF(项目特征!D2='模板使用说明&基础参数'!H4,'模板使用说明&基础参数'!I4,IF(项目特征!D2='模板使用说明&基础参数'!H5,'模板使用说明&基础参数'!I5,IF(项目特征!D2='模板使用说明&基础参数'!H6,'模板使用说明&基础参数'!I6,IF(项目特征!D2='模板使用说明&基础参数'!H7,'模板使用说明&基础参数'!I7,1)))) -> 1
A3: 4 | B3: 运维级别要求 | C3: 业务重要性 | E3: =IF(D3='模板使用说明&基础参数'!H35,'模板使用说明&基础参数'!I35,IF(D3='模板使用说明&基础参数'!H36,'模板使用说明&基础参数'!I36,IF(D3='模板使用说明&基础参数'!H37,'模板使用说明&基础参数'!I37,1))) -> 1
A4: 5 | C4: 更新频率 | E4: =IF(D4='模板使用说明&基础参数'!H17,'模板使用说明&基础参数'!I17,IF(D4='模板使用说明&基础参数'!H18,'模板使用说明&基础参数'!I18,IF(D4='模板使用说明&基础参数'!H19,'模板使用说明&基础参数'!I19,1))) -> 1
A5: 6 | C5: 技术支持方式 | E5: =IF(D5='模板使用说明&基础参数'!H23,'模板使用说明&基础参数'!I23,IF(D5='模板使用说明&基础参数'!H24,'模板使用说明&基础参数'!I24,IF(D5='模板使用说明&基础参数'!H25,'模板使用说明&基础参数'!I25,1))) -> 1
A6: 7 | C6: 安全等级 | E6: =IF(D6='模板使用说明&基础参数'!H28,'模板使用说明&基础参数'!I28,IF(D6='模板使用说明&基础参数'!H29,'模板使用说明&基础参数'!I29,IF(D6='模板使用说明&基础参数'!H30,'模板使用说明&基础参数'!I30,IF(D6='模板使用说明&基础参数'!H31,'模板使用说明&基础参数'!I31,IF(D6='模板使用说明&基础参数'!H32,'模板使用说明&基础参数'!I32,1))))) -> 1
A7: 8 | C7: 响应时效 | E7: =IF(D7='模板使用说明&基础参数'!H40,'模板使用说明&基础参数'!I40,IF(D7='模板使用说明&基础参数'!H41,'模板使用说明&基础参数'!I41,IF(项目特征!D7='模板使用说明&基础参数'!H42,'模板使用说明&基础参数'!I42,1))) -> 1
A8: 9 | C8: 软件完整性级别 | E8: =IF(D8='模板使用说明&基础参数'!H45,'模板使用说明&基础参数'!I45,IF(D8='模板使用说明&基础参数'!H46,'模板使用说明&基础参数'!I46,IF(项目特征!D8='模板使用说明&基础参数'!H47,'模板使用说明&基础参数'!I47,1))) -> 1
A9: 10 | B9: 运维系统及 业务特征 | C9: 部署方式 | E9: =IF(D9='模板使用说明&基础参数'!H50,'模板使用说明&基础参数'!I50,IF(D9='模板使用说明&基础参数'!H51,'模板使用说明&基础参数'!I51,1)) -> 1
A10: 11 | C10: 用户规模 | E10: =IF(D10='模板使用说明&基础参数'!H54,'模板使用说明&基础参数'!I54,IF(D10='模板使用说明&基础参数'!H55,'模板使用说明&基础参数'!I55,IF(项目特征!D10='模板使用说明&基础参数'!H56,'模板使用说明&基础参数'!I56,1))) -> 1
A11: 12 | C11: 系统关联性 | E11: =IF(D11='模板使用说明&基础参数'!H59,'模板使用说明&基础参数'!I59,IF(D11='模板使用说明&基础参数'!H60,'模板使用说明&基础参数'!I60,IF(项目特征!D11='模板使用说明&基础参数'!H61,'模板使用说明&基础参数'!I61,1))) -> 1
A12: 13 | C12: 是否涉密 | E12: =IF(D12='模板使用说明&基础参数'!H69,'模板使用说明&基础参数'!I69,IF(D12='模板使用说明&基础参数'!H70,'模板使用说明&基础参数'!I70,1)) -> 1
A13: 14 | B13: 运维能力要求 | C13: 运维团队经验 | E13: =IF(D13='模板使用说明&基础参数'!H64,'模板使用说明&基础参数'!I64,IF(D13='模板使用说明&基础参数'!H65,'模板使用说明&基础参数'!I65,IF(项目特征!D13='模板使用说明&基础参数'!H66,'模板使用说明&基础参数'!I66,1))) -> 1

Sheet 规模估算（功能点）
A1: 规模估算方法 | C1: 估算功能点 | D1: 请选择规模估算方法，缺省为“估算功能点”
A2: 功能点合计 | C2: =J1126 -> 0 | D2: 单位：FP
A3: 调整后功能点 | C3: =M1126 -> 0 | D3: 单位：FP
A5: 编号 | B5: 子系统 | C5: 一级模块 | D5: 二级模块 | E5: 三级模块 | F5: 四级模块 | G5: 功能项描述 | H5: 功能点计数项名称 | I5: 类别 | J5: UFP | K5: 重用程度 | L5: 修改类型 | M5: US | N5: 备注
A6: =ROW()-5 -> 1 | J6: =IF(I6="ILF",IF($C$1="预估功能点",'模板使用说明&基础参数'!$E$14,'模板使用说明&基础参数'!$E$21),IF(I6="EIF",IF($C$1="预估功能点",'模板使用说明&基础参数'!$E$15,'模板使用说明&基础参数'!$E$22),IF(I6="EI",IF($C$1="预估功能点",'模板使用说明&基础参数'!$E$16,'模板使用说明&基础参数'!$E$23),IF(I6="EO",IF($C$1="预估功能点",'模板使用说明&基础参数'!$E$17,'模板使用说明&基础参数'!$E$24),IF(I6="EQ",IF($C$1="预估功能点",'模板使用说明&基础参数'!$E$18,'模板使用说明&基础参数'!$E$25),""))))) | M6: =IF(J6="","",IF(K6="高",IF(L6="删除",J6*'模板使用说明&基础参数'!$E$4*'模板使用说明&基础参数'!$E$11,IF(L6="修改",J6*'模板使用说明&基础参数'!$E$4*'模板使用说明&基础参数'!$E$10,J6*'模板使用说明&基础参数'!$E$4*'模板使用说明&基础参数'!$E$9)),IF(K6="中",IF(L6="删除",J6*'模板使用说明&基础参数'!$E$5*'模板使用说明&基础参数'!$E$11,IF(L6="修改",J6*'模板使用说明&基础参数'!$E$5*'模板使用说明&基础参数'!$E$10,J6*'模板使用说明&基础参数'!$E$5*'模板使用说明&基础参数'!$E$9)),IF(L6="删除",J6*'模板使用说明&基础参数'!$E$6*'模板使用说明&基础参数'!$E$11,IF(L6="修改",J6*'模板使用说明&基础参数'!$E$6*'模板使用说明&基础参数'!$E$10,J6*'模板使用说明&基础参数'!$E$6*'模板使用说明&基础参数'!$E$9)))))
A7: =ROW()-5 -> 2 | J7: =IF(I7="ILF",IF($C$1="预估功能点",'模板使用说明&基础参数'!$E$14,'模板使用说明&基础参数'!$E$21),IF(I7="EIF",IF($C$1="预估功能点",'模板使用说明&基础参数'!$E$15,'模板使用说明&基础参数'!$E$22),IF(I7="EI",IF($C$1="预估功能点",'模板使用说明&基础参数'!$E$16,'模板使用说明&基础参数'!$E$23),IF(I7="EO",IF($C$1="预估功能点",'模板使用说明&基础参数'!$E$17,'模板使用说明&基础参数'!$E$24),IF(I7="EQ",IF($C$1="预估功能点",'模板使用说明&基础参数'!$E$18,'模板使用说明&基础参数'!$E$25),""))))) | M7: =IF(J7="","",IF(K7="高",IF(L7="删除",J7*'模板使用说明&基础参数'!$E$4*'模板使用说明&基础参数'!$E$11,IF(L7="修改",J7*'模板使用说明&基础参数'!$E$4*'模板使用说明&基础参数'!$E$10,J7*'模板使用说明&基础参数'!$E$4*'模板使用说明&基础参数'!$E$9)),IF(K7="中",IF(L7="删除",J7*'模板使用说明&基础参数'!$E$5*'模板使用说明&基础参数'!$E$11,IF(L7="修改",J7*'模板使用说明&基础参数'!$E$5*'模板使用说明&基础参数'!$E$10,J7*'模板使用说明&基础参数'!$E$5*'模板使用说明&基础参数'!$E$9)),IF(L7="删除",J7*'模板使用说明&基础参数'!$E$6*'模板使用说明&基础参数'!$E$11,IF(L7="修改",J7*'模板使用说明&基础参数'!$E$6*'模板使用说明&基础参数'!$E$10,J7*'模板使用说明&基础参数'!$E$6*'模板使用说明&基础参数'!$E$9)))))
A8: =ROW()-5 -> 3 | J8: =IF(I8="ILF",IF($C$1="预估功能点",'模板使用说明&基础参数'!$E$14,'模板使用说明&基础参数'!$E$21),IF(I8="EIF",IF($C$1="预估功能点",'模板使用说明&基础参数'!$E$15,'模板使用说明&基础参数'!$E$22),IF(I8="EI",IF($C$1="预估功能点",'模板使用说明&基础参数'!$E$16,'模板使用说明&基础参数'!$E$23),IF(I8="EO",IF($C$1="预估功能点",'模板使用说明&基础参数'!$E$17,'模板使用说明&基础参数'!$E$24),IF(I8="EQ",IF($C$1="预估功能点",'模板使用说明&基础参数'!$E$18,'模板使用说明&基础参数'!$E$25),""))))) | M8: =IF(J8="","",IF(K8="高",IF(L8="删除",J8*'模板使用说明&基础参数'!$E$4*'模板使用说明&基础参数'!$E$11,IF(L8="修改",J8*'模板使用说明&基础参数'!$E$4*'模板使用说明&基础参数'!$E$10,J8*'模板使用说明&基础参数'!$E$4*'模板使用说明&基础参数'!$E$9)),IF(K8="中",IF(L8="删除",J8*'模板使用说明&基础参数'!$E$5*'模板使用说明&基础参数'!$E$11,IF(L8="修改",J8*'模板使用说明&基础参数'!$E$5*'模板使用说明&基础参数'!$E$10,J8*'模板使用说明&基础参数'!$E$5*'模板使用说明&基础参数'!$E$9)),IF(L8="删除",J8*'模板使用说明&基础参数'!$E$6*'模板使用说明&基础参数'!$E$11,IF(L8="修改",J8*'模板使用说明&基础参数'!$E$6*'模板使用说明&基础参数'!$E$10,J8*'模板使用说明&基础参数'!$E$6*'模板使用说明&基础参数'!$E$9)))))
A9: =ROW()-5 -> 4 | J9: =IF(I9="ILF",IF($C$1="预估功能点",'模板使用说明&基础参数'!$E$14,'模板使用说明&基础参数'!$E$21),IF(I9="EIF",IF($C$1="预估功能点",'模板使用说明&基础参数'!$E$15,'模板使用说明&基础参数'!$E$22),IF(I9="EI",IF($C$1="预估功能点",'模板使用说明&基础参数'!$E$16,'模板使用说明&基础参数'!$E$23),IF(I9="EO",IF($C$1="预估功能点",'模板使用说明&基础参数'!$E$17,'模板使用说明&基础参数'!$E$24),IF(I9="EQ",IF($C$1="预估功能点",'模板使用说明&基础参数'!$E$18,'模板使用说明&基础参数'!$E$25),""))))) | M9: =IF(J9="","",IF(K9="高",IF(L9="删除",J9*'模板使用说明&基础参数'!$E$4*'模板使用说明&基础参数'!$E$11,IF(L9="修改",J9*'模板使用说明&基础参数'!$E$4*'模板使用说明&基础参数'!$E$10,J9*'模板使用说明&基础参数'!$E$4*'模板使用说明&基础参数'!$E$9)),IF(K9="中",IF(L9="删除",J9*'模板使用说明&基础参数'!$E$5*'模板使用说明&基础参数'!$E$11,IF(L9="修改",J9*'模板使用说明&基础参数'!$E$5*'模板使用说明&基础参数'!$E$10,J9*'模板使用说明&基础参数'!$E$5*'模板使用说明&基础参数'!$E$9)),IF(L9="删除",J9*'模板使用说明&基础参数'!$E$6*'模板使用说明&基础参数'!$E$11,IF(L9="修改",J9*'模板使用说明&基础参数'!$E$6*'模板使用说明&基础参数'!$E$10,J9*'模板使用说明&基础参数'!$E$6*'模板使用说明&基础参数'!$E$9)))))
A10: =ROW()-5 -> 5 | J10: =IF(I10="ILF",IF($C$1="预估功能点",'模板使用说明&基础参数'!$E$14,'模板使用说明&基础参数'!$E$21),IF(I10="EIF",IF($C$1="预估功能点",'模板使用说明&基础参数'!$E$15,'模板使用说明&基础参数'!$E$22),IF(I10="EI",IF($C$1="预估功能点",'模板使用说明&基础参数'!$E$16,'模板使用说明&基础参数'!$E$23),IF(I10="EO",IF($C$1="预估功能点",'模板使用说明&基础参数'!$E$17,'模板使用说明&基础参数'!$E$24),IF(I10="EQ",IF($C$1="预估功能点",'模板使用说明&基础参数'!$E$18,'模板使用说明&基础参数'!$E$25),""))))) | M10: =IF(J10="","",IF(K10="高",IF(L10="删除",J10*'模板使用说明&基础参数'!$E$4*'模板使用说明&基础参数'!$E$11,IF(L10="修改",J10*'模板使用说明&基础参数'!$E$4*'模板使用说明&基础参数'!$E$10,J10*'模板使用说明&基础参数'!$E$4*'模板使用说明&基础参数'!$E$9)),IF(K10="中",IF(L10="删除",J10*'模板使用说明&基础参数'!$E$5*'模板使用说明&基础参数'!$E$11,IF(L10="修改",J10*'模板使用说明&基础参数'!$E$5*'模板使用说明&基础参数'!$E$10,J10*'模板使用说明&基础参数'!$E$5*'模板使用说明&基础参数'!$E$9)),IF(L10="删除",J10*'模板使用说明&基础参数'!$E$6*'模板使用说明&基础参数'!$E$11,IF(L10="修改",J10*'模板使用说明&基础参数'!$E$6*'模板使用说明&基础参数'!$E$10,J10*'模板使用说明&基础参数'!$E$6*'模板使用说明&基础参数'!$E$9)))))
A11: =ROW()-5 -> 6 | J11: =IF(I11="ILF",IF($C$1="预估功能点",'模板使用说明&基础参数'!$E$14,'模板使用说明&基础参数'!$E$21),IF(I11="EIF",IF($C$1="预估功能点",'模板使用说明&基础参数'!$E$15,'模板使用说明&基础参数'!$E$22),IF(I11="EI",IF($C$1="预估功能点",'模板使用说明&基础参数'!$E$16,'模板使用说明&基础参数'!$E$23),IF(I11="EO",IF($C$1="预估功能点",'模板使用说明&基础参数'!$E$17,'模板使用说明&基础参数'!$E$24),IF(I11="EQ",IF($C$1="预估功能点",'模板使用说明&基础参数'!$E$18,'模板使用说明&基础参数'!$E$25),""))))) | M11: =IF(J11="","",IF(K11="高",IF(L11="删除",J11*'模板使用说明&基础参数'!$E$4*'模板使用说明&基础参数'!$E$11,IF(L11="修改",J11*'模板使用说明&基础参数'!$E$4*'模板使用说明&基础参数'!$E$10,J11*'模板使用说明&基础参数'!$E$4*'模板使用说明&基础参数'!$E$9)),IF(K11="中",IF(L11="删除",J11*'模板使用说明&基础参数'!$E$5*'模板使用说明&基础参数'!$E$11,IF(L11="修改",J11*'模板使用说明&基础参数'!$E$5*'模板使用说明&基础参数'!$E$10,J11*'模板使用说明&基础参数'!$E$5*'模板使用说明&基础参数'!$E$9)),IF(L11="删除",J11*'模板使用说明&基础参数'!$E$6*'模板使用说明&基础参数'!$E$11,IF(L11="修改",J11*'模板使用说明&基础参数'!$E$6*'模板使用说明&基础参数'!$E$10,J11*'模板使用说明&基础参数'!$E$6*'模板使用说明&基础参数'!$E$9)))))
A12: =ROW()-5 -> 7 | J12: =IF(I12="ILF",IF($C$1="预估功能点",'模板使用说明&基础参数'!$E$14,'模板使用说明&基础参数'!$E$21),IF(I12="EIF",IF($C$1="预估功能点",'模板使用说明&基础参数'!$E$15,'模板使用说明&基础参数'!$E$22),IF(I12="EI",IF($C$1="预估功能点",'模板使用说明&基础参数'!$E$16,'模板使用说明&基础参数'!$E$23),IF(I12="EO",IF($C$1="预估功能点",'模板使用说明&基础参数'!$E$17,'模板使用说明&基础参数'!$E$24),IF(I12="EQ",IF($C$1="预估功能点",'模板使用说明&基础参数'!$E$18,'模板使用说明&基础参数'!$E$25),""))))) | M12: =IF(J12="","",IF(K12="高",IF(L12="删除",J12*'模板使用说明&基础参数'!$E$4*'模板使用说明&基础参数'!$E$11,IF(L12="修改",J12*'模板使用说明&基础参数'!$E$4*'模板使用说明&基础参数'!$E$10,J12*'模板使用说明&基础参数'!$E$4*'模板使用说明&基础参数'!$E$9)),IF(K12="中",IF(L12="删除",J12*'模板使用说明&基础参数'!$E$5*'模板使用说明&基础参数'!$E$11,IF(L12="修改",J12*'模板使用说明&基础参数'!$E$5*'模板使用说明&基础参数'!$E$10,J12*'模板使用说明&基础参数'!$E$5*'模板使用说明&基础参数'!$E$9)),IF(L12="删除",J12*'模板使用说明&基础参数'!$E$6*'模板使用说明&基础参数'!$E$11,IF(L12="修改",J12*'模板使用说明&基础参数'!$E$6*'模板使用说明&基础参数'!$E$10,J12*'模板使用说明&基础参数'!$E$6*'模板使用说明&基础参数'!$E$9)))))
A13: =ROW()-5 -> 8 | J13: =IF(I13="ILF",IF($C$1="预估功能点",'模板使用说明&基础参数'!$E$14,'模板使用说明&基础参数'!$E$21),IF(I13="EIF",IF($C$1="预估功能点",'模板使用说明&基础参数'!$E$15,'模板使用说明&基础参数'!$E$22),IF(I13="EI",IF($C$1="预估功能点",'模板使用说明&基础参数'!$E$16,'模板使用说明&基础参数'!$E$23),IF(I13="EO",IF($C$1="预估功能点",'模板使用说明&基础参数'!$E$17,'模板使用说明&基础参数'!$E$24),IF(I13="EQ",IF($C$1="预估功能点",'模板使用说明&基础参数'!$E$18,'模板使用说明&基础参数'!$E$25),""))))) | M13: =IF(J13="","",IF(K13="高",IF(L13="删除",J13*'模板使用说明&基础参数'!$E$4*'模板使用说明&基础参数'!$E$11,IF(L13="修改",J13*'模板使用说明&基础参数'!$E$4*'模板使用说明&基础参数'!$E$10,J13*'模板使用说明&基础参数'!$E$4*'模板使用说明&基础参数'!$E$9)),IF(K13="中",IF(L13="删除",J13*'模板使用说明&基础参数'!$E$5*'模板使用说明&基础参数'!$E$11,IF(L13="修改",J13*'模板使用说明&基础参数'!$E$5*'模板使用说明&基础参数'!$E$10,J13*'模板使用说明&基础参数'!$E$5*'模板使用说明&基础参数'!$E$9)),IF(L13="删除",J13*'模板使用说明&基础参数'!$E$6*'模板使用说明&基础参数'!$E$11,IF(L13="修改",J13*'模板使用说明&基础参数'!$E$6*'模板使用说明&基础参数'!$E$10,J13*'模板使用说明&基础参数'!$E$6*'模板使用说明&基础参数'!$E$9)))))
A14: =ROW()-5 -> 9 | J14: =IF(I14="ILF",IF($C$1="预估功能点",'模板使用说明&基础参数'!$E$14,'模板使用说明&基础参数'!$E$21),IF(I14="EIF",IF($C$1="预估功能点",'模板使用说明&基础参数'!$E$15,'模板使用说明&基础参数'!$E$22),IF(I14="EI",IF($C$1="预估功能点",'模板使用说明&基础参数'!$E$16,'模板使用说明&基础参数'!$E$23),IF(I14="EO",IF($C$1="预估功能点",'模板使用说明&基础参数'!$E$17,'模板使用说明&基础参数'!$E$24),IF(I14="EQ",IF($C$1="预估功能点",'模板使用说明&基础参数'!$E$18,'模板使用说明&基础参数'!$E$25),""))))) | M14: =IF(J14="","",IF(K14="高",IF(L14="删除",J14*'模板使用说明&基础参数'!$E$4*'模板使用说明&基础参数'!$E$11,IF(L14="修改",J14*'模板使用说明&基础参数'!$E$4*'模板使用说明&基础参数'!$E$10,J14*'模板使用说明&基础参数'!$E$4*'模板使用说明&基础参数'!$E$9)),IF(K14="中",IF(L14="删除",J14*'模板使用说明&基础参数'!$E$5*'模板使用说明&基础参数'!$E$11,IF(L14="修改",J14*'模板使用说明&基础参数'!$E$5*'模板使用说明&基础参数'!$E$10,J14*'模板使用说明&基础参数'!$E$5*'模板使用说明&基础参数'!$E$9)),IF(L14="删除",J14*'模板使用说明&基础参数'!$E$6*'模板使用说明&基础参数'!$E$11,IF(L14="修改",J14*'模板使用说明&基础参数'!$E$6*'模板使用说明&基础参数'!$E$10,J14*'模板使用说明&基础参数'!$E$6*'模板使用说明&基础参数'!$E$9)))))
A15: =ROW()-5 -> 10 | J15: =IF(I15="ILF",IF($C$1="预估功能点",'模板使用说明&基础参数'!$E$14,'模板使用说明&基础参数'!$E$21),IF(I15="EIF",IF($C$1="预估功能点",'模板使用说明&基础参数'!$E$15,'模板使用说明&基础参数'!$E$22),IF(I15="EI",IF($C$1="预估功能点",'模板使用说明&基础参数'!$E$16,'模板使用说明&基础参数'!$E$23),IF(I15="EO",IF($C$1="预估功能点",'模板使用说明&基础参数'!$E$17,'模板使用说明&基础参数'!$E$24),IF(I15="EQ",IF($C$1="预估功能点",'模板使用说明&基础参数'!$E$18,'模板使用说明&基础参数'!$E$25),""))))) | M15: =IF(J15="","",IF(K15="高",IF(L15="删除",J15*'模板使用说明&基础参数'!$E$4*'模板使用说明&基础参数'!$E$11,IF(L15="修改",J15*'模板使用说明&基础参数'!$E$4*'模板使用说明&基础参数'!$E$10,J15*'模板使用说明&基础参数'!$E$4*'模板使用说明&基础参数'!$E$9)),IF(K15="中",IF(L15="删除",J15*'模板使用说明&基础参数'!$E$5*'模板使用说明&基础参数'!$E$11,IF(L15="修改",J15*'模板使用说明&基础参数'!$E$5*'模板使用说明&基础参数'!$E$10,J15*'模板使用说明&基础参数'!$E$5*'模板使用说明&基础参数'!$E$9)),IF(L15="删除",J15*'模板使用说明&基础参数'!$E$6*'模板使用说明&基础参数'!$E$11,IF(L15="修改",J15*'模板使用说明&基础参数'!$E$6*'模板使用说明&基础参数'!$E$10,J15*'模板使用说明&基础参数'!$E$6*'模板使用说明&基础参数'!$E$9)))))
A16: =ROW()-5 -> 11 | J16: =IF(I16="ILF",IF($C$1="预估功能点",'模板使用说明&基础参数'!$E$14,'模板使用说明&基础参数'!$E$21),IF(I16="EIF",IF($C$1="预估功能点",'模板使用说明&基础参数'!$E$15,'模板使用说明&基础参数'!$E$22),IF(I16="EI",IF($C$1="预估功能点",'模板使用说明&基础参数'!$E$16,'模板使用说明&基础参数'!$E$23),IF(I16="EO",IF($C$1="预估功能点",'模板使用说明&基础参数'!$E$17,'模板使用说明&基础参数'!$E$24),IF(I16="EQ",IF($C$1="预估功能点",'模板使用说明&基础参数'!$E$18,'模板使用说明&基础参数'!$E$25),""))))) | M16: =IF(J16="","",IF(K16="高",IF(L16="删除",J16*'模板使用说明&基础参数'!$E$4*'模板使用说明&基础参数'!$E$11,IF(L16="修改",J16*'模板使用说明&基础参数'!$E$4*'模板使用说明&基础参数'!$E$10,J16*'模板使用说明&基础参数'!$E$4*'模板使用说明&基础参数'!$E$9)),IF(K16="中",IF(L16="删除",J16*'模板使用说明&基础参数'!$E$5*'模板使用说明&基础参数'!$E$11,IF(L16="修改",J16*'模板使用说明&基础参数'!$E$5*'模板使用说明&基础参数'!$E$10,J16*'模板使用说明&基础参数'!$E$5*'模板使用说明&基础参数'!$E$9)),IF(L16="删除",J16*'模板使用说明&基础参数'!$E$6*'模板使用说明&基础参数'!$E$11,IF(L16="修改",J16*'模板使用说明&基础参数'!$E$6*'模板使用说明&基础参数'!$E$10,J16*'模板使用说明&基础参数'!$E$6*'模板使用说明&基础参数'!$E$9)))))
A17: =ROW()-5 -> 12 | J17: =IF(I17="ILF",IF($C$1="预估功能点",'模板使用说明&基础参数'!$E$14,'模板使用说明&基础参数'!$E$21),IF(I17="EIF",IF($C$1="预估功能点",'模板使用说明&基础参数'!$E$15,'模板使用说明&基础参数'!$E$22),IF(I17="EI",IF($C$1="预估功能点",'模板使用说明&基础参数'!$E$16,'模板使用说明&基础参数'!$E$23),IF(I17="EO",IF($C$1="预估功能点",'模板使用说明&基础参数'!$E$17,'模板使用说明&基础参数'!$E$24),IF(I17="EQ",IF($C$1="预估功能点",'模板使用说明&基础参数'!$E$18,'模板使用说明&基础参数'!$E$25),""))))) | M17: =IF(J17="","",IF(K17="高",IF(L17="删除",J17*'模板使用说明&基础参数'!$E$4*'模板使用说明&基础参数'!$E$11,IF(L17="修改",J17*'模板使用说明&基础参数'!$E$4*'模板使用说明&基础参数'!$E$10,J17*'模板使用说明&基础参数'!$E$4*'模板使用说明&基础参数'!$E$9)),IF(K17="中",IF(L17="删除",J17*'模板使用说明&基础参数'!$E$5*'模板使用说明&基础参数'!$E$11,IF(L17="修改",J17*'模板使用说明&基础参数'!$E$5*'模板使用说明&基础参数'!$E$10,J17*'模板使用说明&基础参数'!$E$5*'模板使用说明&基础参数'!$E$9)),IF(L17="删除",J17*'模板使用说明&基础参数'!$E$6*'模板使用说明&基础参数'!$E$11,IF(L17="修改",J17*'模板使用说明&基础参数'!$E$6*'模板使用说明&基础参数'!$E$10,J17*'模板使用说明&基础参数'!$E$6*'模板使用说明&基础参数'!$E$9)))))
... A1125: =ROW()-5 -> 1120 | J1125: =IF(I1125="ILF",IF($C$1="预估功能点",'模板使用说明&基础参数'!$E$14,'模板使用说明&基础参数'!$E$21),IF(I1125="EIF",IF($C$1="预估功能点",'模板使用说明&基础参数'!$E$15,'模板使用说明&基础参数'!$E$22),IF(I1125="EI",IF($C$1="预估功能点",'模板使用说明&基础参数'!$E$16,'模板使用说明&基础参数'!$E$23),IF(I1125="EO",IF($C$1="预估功能点",'模板使用说明&基础参数'!$E$17,'模板使用说明&基础参数'!$E$24),IF(I1125="EQ",IF($C$1="预估功能点",'模板使用说明&基础参数'!$E$18,'模板使用说明&基础参数'!$E$25),""))))) | M1125: =IF(J1125="","",IF(K1125="高",IF(L1125="删除",J1125*'模板使用说明&基础参数'!$E$4*'模板使用说明&基础参数'!$E$11,IF(L1125="修改",J1125*'模板使用说明&基础参数'!$E$4*'模板使用说明&基础参数'!$E$10,J1125*'模板使用说明&基础参数'!$E$4*'模板使用说明&基础参数'!$E$9)),IF(K1125="中",IF(L1125="删除",J1125*'模板使用说明&基础参数'!$E$5*'模板使用说明&基础参数'!$E$11,IF(L1125="修改",J1125*'模板使用说明&基础参数'!$E$5*'模板使用说明&基础参数'!$E$10,J1125*'模板使用说明&基础参数'!$E$5*'模板使用说明&基础参数'!$E$9)),IF(L1125="删除",J1125*'模板使用说明&基础参数'!$E$6*'模板使用说明&基础参数'!$E$11,IF(L1125="修改",J1125*'模板使用说明&基础参数'!$E$6*'模板使用说明&基础参数'!$E$10,J1125*'模板使用说明&基础参数'!$E$6*'模板使用说明&基础参数'!$E$9)))))
A1126: 合计 | J1126: =SUM(J6:J1125) -> 0 | M1126: =SUM(M6:M1125) -> 0

Sheet 应用软件运维费用估算
A1: 系统规模 | B1: 规模估算结果（单位：功能点） | E1: ='规模估算（功能点）'!C3 -> 0 | F1: 未进行功能吻合度调整
B2: 规模变更调整因子取值 | E2: =项目特征!E2 -> 1 | F2: 根据估算时机取值
B3: 调整后规模（单位：功能点） | E3: =E1*E2 -> 0
A4: 应用软件运维度量 | B4: 基准生产率（单位：人时/功能点） | E4: =E5*0.8 -> 0.576 | F4: 下限
E5: 0.72 | F5: CSBMK@-202610全行业基准数据中位数
E6: =E5*1.2 -> 0.864 | F6: 上限
B7: 未调整工作量（单位：人天） | E7: =E3*E4/8 -> 0 | F7: 下限
E8: =E3*E5/8 -> 0 | F8: 中值
E9: =E3*E6/8 -> 0 | F9: 上限
B10: 运维级别要求 | C10: 业务重要性 | E10: =项目特征!E3 -> 1 | F10: =IF(ISBLANK(项目特征!D3),"",项目特征!D3)
C11: 更新频率 | E11: =项目特征!E4 -> 1 | F11: =IF(ISBLANK(项目特征!D4),"",项目特征!D4)
C12: 技术支持方式 | E12: =项目特征!E5 -> 1 | F12: =IF(ISBLANK(项目特征!D5),"",项目特征!D5)
C13: 安全等级 | E13: =项目特征!E6 -> 1 | F13: =IF(ISBLANK(项目特征!D6),"",项目特征!D6)
C14: 响应时效 | E14: =项目特征!E7 -> 1 | F14: =IF(ISBLANK(项目特征!D7),"",项目特征!D7)
C15: 软件完整性级别 | E15: =项目特征!E8 -> 1 | F15: =IF(ISBLANK(项目特征!D8),"",项目特征!D8)
B16: 运维系统及业务特征 | C16: 部署方式 | E16: =项目特征!E9 -> 1 | F16: =IF(ISBLANK(项目特征!D9),"",项目特征!D9)
C17: 用户规模 | E17: =项目特征!E10 -> 1 | F17: =IF(ISBLANK(项目特征!D10),"",项目特征!D10)
C18: 系统关联性 | E18: =项目特征!E11 -> 1 | F18: =IF(ISBLANK(项目特征!D11),"",项目特征!D11)
C19: 是否涉密 | E19: =项目特征!E12 -> 1 | F19: =IF(ISBLANK(项目特征!D12),"",项目特征!D12)
B20: 运维能力要求 | C20: 运维团队经验 | E20: =项目特征!E13 -> 1 | F20: =IF(ISBLANK(项目特征!D13),"",项目特征!D13)
B21: 工作量调整因子取值 | E21: =E10*E11*E12*E13*E14*E15*E16*E17*E18*E19*E20 -> 1
B22: 调整后工作量（单位：人天） | E22: =E7*E21 -> 0 | F22: 下限
E23: =E8*E21 -> 0 | F23: 中值
E24: =E9*E21 -> 0 | F24: 上限
B25: 人月基准单价（单位：万元/人月） | E25: 2.6608 | F25: 北京地区人月单价，不包含直接非人力成本
B26: 基准报价（单位：万元） （不包含直接非人力成本） | E26: =E22*E25/21.75 -> 0 | F26: 下限
E27: =E23*E25/21.75 -> 0 | F27: 中值
E28: =E24*E25/21.75 -> 0 | F28: 上限

Sheet 运维费用估算（费率）
A1: 序号 | B1: 运维对象类型 | C1: 运维对象名称 | D1: 工作内容描述 | E1: IT资产额/开发费用（万元） | F1: 运维费率（%） | G1: 总价 （万元） | H1: 备注
A2: 1 | F2: 0.022 | G2: =E2*F2 -> 0
A3: 2 | F3: 0.0509 | G3: =E3*F3 -> 0
A4: 3 | F4: 0.0892 | G4: =E4*F4 -> 0
A5: 4 | F5: 0.1417 | G5: =E5*F5 -> 0
A6: 5 | F6: 0.2538 | G6: =E6*F6 -> 0
A7: 合计 | G7: =SUM(G2:G6) -> 0

Sheet 模板使用说明&基础参数
A2: 本模板通常只填写白色区域；
A3: 深灰 | B3: 模板固定部分，不得修改 | D3: 重用程度调整系数 | H3: 规模调整因子
A4: 浅灰 | B4: 模板固定部分，在必要时统一修改 | D4: 高 | E4: 0.33333333 | H4: 项目早期 | I4: 1.39
A5: 绿色 | B5: 自动计算或引用数据，不得修改 | D5: 中 | E5: 0.66666667 | H5: 项目中期 | I5: 1.21
A6: 白色 | B6: 需填写或修改内容 | D6: 低 | E6: 1 | H6: 项目晚期 | I6: 1.1
H7: 项目完成 | I7: 1
D8: 修改类型调整系数
A9: 本文件版权归北京软件造价评估技术创新联盟所有 | D9: 新增 | E9: 1
A10: 未经授权不得复制或用作任何商业用途 | D10: 修改 | E10: 0.8 | H10: 软件类型
D11: 删除 | E11: 0.2 | H11: 操作系统 | I11: 0.9
H12: 中间件 | I12: 0.96
D13: 预估功能点 | H13: 数据库 | I13: 1
D14: ILF | E14: 35 | H14: 开发平台 | I14: 1.05
D15: EIF | E15: 15
D16: EI | H16: 系统更新频率 | I16: 调整因子
D17: EO | H17: 平均每季度1次或以下 | I17: 0.78
D18: EQ | H18: 平均每月1次或以下 | I18: 1
H19: 超过每月1次 | I19: 1.12
D20: 估算功能点
D21: ILF | E21: 10
D22: EIF | E22: 7 | H22: 支持方式 | I22: 调整因子
D23: EI | E23: 4 | H23: 非现场支持为主 | I23: 0.9
D24: EO | E24: 5 | H24: 现场支持为主 | I24: 1
D25: EQ | E25: 4 | H25: 纯现场支持 | I25: 1.2
H27: 安全等级 | I27: 调整因子
H28: 第一级 | I28: 0.9
H29: 第二级 | I29: 0.95
H30: 第三级 | I30: 1
H31: 第四级 | I31: 1.05
H32: 第五级 | I32: 1.1
H34: 业务重要性 | I34: 调整因子
H35: 周边 | I35: 0.9
H36: 一般 | I36: 1
H37: 核心 | I37: 1.1
H39: 响应时效 | I39: 调整因子
H40: 一级故障处理时间小于72h | I40: 0.9
H41: 一级故障处理时间小于48h | I41: 1
H42: 一级故障处理时间小于24h | I42: 1.1
H44: 软件完整性级别 | I44: 调整因子
H45: 没有明确的完整性级别或等级为C/D | I45: 1
...
